BEGIN:VCALENDAR
VERSION:2.0
PRODID:-//wp-events-plugin.com//7.2.3.1//EN
TZID:Europe/Berlin
X-WR-TIMEZONE:Europe/Berlin
BEGIN:VEVENT
UID:187@stmartini-stadthagen.de
DTSTART;TZID=Europe/Berlin:20260502T110000
DTEND;TZID=Europe/Berlin:20260502T113000
DTSTAMP:20260423T105849Z
URL:https://stmartini-stadthagen.de/veranstaltung/klaviermusik-bei-der-mus
 ikalischen-andacht-zur-marktzeit/
SUMMARY:Klaviermusik bei der Musikalischen Andacht zur Marktzeit
DESCRIPTION:Der junge Pianist Lysander Burleigh ist ein höchst gern gesehe
 ner musizierender Gast in der Martini-Kirche. In seinem Programm spielt er
  Intermezzi von Brahms und Präludien und Fugen von Bach und Schostakowits
 ch. Einen geistlichen Impuls bei der rund halbstündigen Veranstaltung gib
 t Pastor Thomas Struckmeier.
ATTACH;FMTTYPE=image/jpeg:https://stmartini-stadthagen.de/wp-content/uploa
 ds/2026/04/Lysander-Burleigh-Kuenstlerfoto.jpg
CATEGORIES:Gottesdienst,Konzert,Sonstiges
LOCATION:St.-Martini-Kirche Stadthagen\, Am Kirchhof 3 \, Stadthagen\, Nied
 ersachsen\, 31655 \, Landkreis Schaumburg\, Deutschland
X-APPLE-STRUCTURED-LOCATION;VALUE=URI;X-ADDRESS=Am Kirchhof 3 \, Stadthagen
 \, Niedersachsen\, 31655 \, Landkreis Schaumburg\, Deutschland;X-APPLE-RAD
 IUS=100;X-TITLE=St.-Martini-Kirche Stadthagen:geo:0,0
END:VEVENT
BEGIN:VTIMEZONE
TZID:Europe/Berlin
X-LIC-LOCATION:Europe/Berlin
BEGIN:DAYLIGHT
DTSTART:20260329T030000
TZOFFSETFROM:+0100
TZOFFSETTO:+0200
TZNAME:CEST
END:DAYLIGHT
END:VTIMEZONE
END:VCALENDAR